BEGIN:VCALENDAR
VERSION:2.0
PRODID:-//Desert Falls Country Club - ECPv6.15.18//NONSGML v1.0//EN
CALSCALE:GREGORIAN
METHOD:PUBLISH
X-WR-CALNAME:Desert Falls Country Club
X-ORIGINAL-URL:https://www.desertfallsgolf.com
X-WR-CALDESC:Events for Desert Falls Country Club
REFRESH-INTERVAL;VALUE=DURATION:PT1H
X-Robots-Tag:noindex
X-PUBLISHED-TTL:PT1H
BEGIN:VTIMEZONE
TZID:UTC
BEGIN:STANDARD
TZOFFSETFROM:+0000
TZOFFSETTO:+0000
TZNAME:UTC
DTSTART:20230101T000000
END:STANDARD
END:VTIMEZONE
BEGIN:VEVENT
DTSTART;TZID=UTC:20240105T140000
DTEND;TZID=UTC:20240105T160000
DTSTAMP:20260423T073433
CREATED:20240105T062838Z
LAST-MODIFIED:20240105T062838Z
UID:10000006-1704463200-1704470400@www.desertfallsgolf.com
SUMMARY:Happy Hour
DESCRIPTION:Start the New Year off right. Joun us on Friday\, January 5\, 2024. \nHappy Hour is open to the public. \nMonday – Friday 2pm to 4pm \n \n 
URL:https://www.desertfallsgolf.com/event/happy-hour/
LOCATION:The Grill
END:VEVENT
BEGIN:VEVENT
DTSTART;TZID=UTC:20240112T170000
DTEND;TZID=UTC:20240112T200000
DTSTAMP:20260423T073433
CREATED:20240105T045749Z
LAST-MODIFIED:20240106T013608Z
UID:10000004-1705078800-1705089600@www.desertfallsgolf.com
SUMMARY:Prime Rib Night
DESCRIPTION:Join us on Friday\, January 12\, 2024\, for Prime Rib Night. \nReservations are required for this event. \nFor more information\, please email at: \nCineva | Cineva@desertfallsgolf.com \n \n 
URL:https://www.desertfallsgolf.com/event/prime-rib-night/
LOCATION:The Grill
END:VEVENT
BEGIN:VEVENT
DTSTART;TZID=UTC:20240119T013000
DTEND;TZID=UTC:20240119T190000
DTSTAMP:20260423T073433
CREATED:20240105T062334Z
LAST-MODIFIED:20240105T062524Z
UID:10000005-1705627800-1705690800@www.desertfallsgolf.com
SUMMARY:Nine & Dine
DESCRIPTION:Join us on Friday\, January 19\, 2024\, for our New Nine & Dine. \nGolf & Dinner Reservations are required. \nFor more information\, please see the Pro Shop.
URL:https://www.desertfallsgolf.com/event/367/
LOCATION:Pro Shop
END:VEVENT
BEGIN:VEVENT
DTSTART;TZID=UTC:20240126T170000
DTEND;TZID=UTC:20240126T200000
DTSTAMP:20260423T073433
CREATED:20240112T014719Z
LAST-MODIFIED:20240112T014719Z
UID:10000007-1706288400-1706299200@www.desertfallsgolf.com
SUMMARY:Friday Night Dinner
DESCRIPTION:Friday Night Social Dinner \nPlease make your reservations soon before it is SOLD OUT! \nEmail Cineva: cineva@desertfallsgolf.com
URL:https://www.desertfallsgolf.com/event/friday-night-dinner/
LOCATION:The Grill
END:VEVENT
END:VCALENDAR