BEGIN:VCALENDAR
VERSION:2.0
PRODID:-//Desert Falls Country Club - ECPv6.15.18//NONSGML v1.0//EN
CALSCALE:GREGORIAN
METHOD:PUBLISH
X-ORIGINAL-URL:https://www.desertfallsgolf.com
X-WR-CALDESC:Events for Desert Falls Country Club
REFRESH-INTERVAL;VALUE=DURATION:PT1H
X-Robots-Tag:noindex
X-PUBLISHED-TTL:PT1H
BEGIN:VTIMEZONE
TZID:America/Los_Angeles
BEGIN:DAYLIGHT
TZOFFSETFROM:-0800
TZOFFSETTO:-0700
TZNAME:PDT
DTSTART:20250309T100000
END:DAYLIGHT
BEGIN:STANDARD
TZOFFSETFROM:-0700
TZOFFSETTO:-0800
TZNAME:PST
DTSTART:20251102T090000
END:STANDARD
BEGIN:DAYLIGHT
TZOFFSETFROM:-0800
TZOFFSETTO:-0700
TZNAME:PDT
DTSTART:20260308T100000
END:DAYLIGHT
BEGIN:STANDARD
TZOFFSETFROM:-0700
TZOFFSETTO:-0800
TZNAME:PST
DTSTART:20261101T090000
END:STANDARD
BEGIN:DAYLIGHT
TZOFFSETFROM:-0800
TZOFFSETTO:-0700
TZNAME:PDT
DTSTART:20270314T100000
END:DAYLIGHT
BEGIN:STANDARD
TZOFFSETFROM:-0700
TZOFFSETTO:-0800
TZNAME:PST
DTSTART:20271107T090000
END:STANDARD
END:VTIMEZONE
BEGIN:VEVENT
DTSTART;VALUE=DATE:20260112
DTEND;VALUE=DATE:20260113
DTSTAMP:20260423T151116
CREATED:20250918T150043Z
LAST-MODIFIED:20250918T195128Z
UID:10000114-1768176000-1768262399@www.desertfallsgolf.com
SUMMARY:Men's Club
DESCRIPTION:Governors Cup Day 4
URL:https://www.desertfallsgolf.com/event/mens-club-15/
CATEGORIES:Men's Club
END:VEVENT
BEGIN:VEVENT
DTSTART;VALUE=DATE:20260113
DTEND;VALUE=DATE:20260114
DTSTAMP:20260423T151116
CREATED:20250918T151115Z
LAST-MODIFIED:20250918T202015Z
UID:10000148-1768262400-1768348799@www.desertfallsgolf.com
SUMMARY:WGA Ladies
DESCRIPTION:Play Day 10
URL:https://www.desertfallsgolf.com/event/wga-ladies-13/
CATEGORIES:WGA- Ladies
END:VEVENT
BEGIN:VEVENT
DTSTART;VALUE=DATE:20260114
DTEND;VALUE=DATE:20260115
DTSTAMP:20260423T151116
CREATED:20250918T150055Z
LAST-MODIFIED:20250918T195159Z
UID:10000115-1768348800-1768435199@www.desertfallsgolf.com
SUMMARY:Men's Club
DESCRIPTION:Govenors Cup Day 5
URL:https://www.desertfallsgolf.com/event/mens-club-16/
CATEGORIES:Men's Club
END:VEVENT
BEGIN:VEVENT
DTSTART;TZID=America/Los_Angeles:20260114T170000
DTEND;TZID=America/Los_Angeles:20260114T200000
DTSTAMP:20260423T151116
CREATED:20251212T024950Z
LAST-MODIFIED:20260113T202026Z
UID:10000252-1768410000-1768420800@www.desertfallsgolf.com
SUMMARY:Bingo or Trivia
DESCRIPTION:
URL:https://www.desertfallsgolf.com/event/bingo-or-trivia-3/
CATEGORIES:Falls Bar & Grille
END:VEVENT
BEGIN:VEVENT
DTSTART;VALUE=DATE:20260115
DTEND;VALUE=DATE:20260116
DTSTAMP:20260423T151116
CREATED:20250918T151128Z
LAST-MODIFIED:20250918T202037Z
UID:10000149-1768435200-1768521599@www.desertfallsgolf.com
SUMMARY:WGA Ladies
DESCRIPTION:Odd Low Net
URL:https://www.desertfallsgolf.com/event/wga-ladies-14/
CATEGORIES:WGA- Ladies
END:VEVENT
BEGIN:VEVENT
DTSTART;VALUE=DATE:20260116
DTEND;VALUE=DATE:20260117
DTSTAMP:20260423T151116
CREATED:20250916T123625Z
LAST-MODIFIED:20260113T202746Z
UID:10000055-1768521600-1768607999@www.desertfallsgolf.com
SUMMARY:Tri-Tip Dinner
DESCRIPTION:
URL:https://www.desertfallsgolf.com/event/prime-rib-2/
END:VEVENT
BEGIN:VEVENT
DTSTART;VALUE=DATE:20260117
DTEND;VALUE=DATE:20260118
DTSTAMP:20260423T151116
CREATED:20250918T205509Z
LAST-MODIFIED:20250918T205509Z
UID:10000195-1768608000-1768694399@www.desertfallsgolf.com
SUMMARY:Men's Club
DESCRIPTION:Governos Cup Day 6
URL:https://www.desertfallsgolf.com/event/mens-club-40/
CATEGORIES:Men's Club
END:VEVENT
BEGIN:VEVENT
DTSTART;VALUE=DATE:20260117
DTEND;VALUE=DATE:20260119
DTSTAMP:20260423T151116
CREATED:20250916T123628Z
LAST-MODIFIED:20250916T123628Z
UID:10000056-1768608000-1768780799@www.desertfallsgolf.com
SUMMARY:NFL Divisional
DESCRIPTION:
URL:https://www.desertfallsgolf.com/event/nfl-divisional/
END:VEVENT
BEGIN:VEVENT
DTSTART;VALUE=DATE:20260119
DTEND;VALUE=DATE:20260120
DTSTAMP:20260423T151116
CREATED:20250916T123630Z
LAST-MODIFIED:20250916T123630Z
UID:10000057-1768780800-1768867199@www.desertfallsgolf.com
SUMMARY:College National Championship
DESCRIPTION:
URL:https://www.desertfallsgolf.com/event/college-national-championship/
END:VEVENT
BEGIN:VEVENT
DTSTART;VALUE=DATE:20260119
DTEND;VALUE=DATE:20260120
DTSTAMP:20260423T151116
CREATED:20250918T150119Z
LAST-MODIFIED:20250918T195417Z
UID:10000116-1768780800-1768867199@www.desertfallsgolf.com
SUMMARY:Men's Club
DESCRIPTION:Open Play 13
URL:https://www.desertfallsgolf.com/event/mens-club-17/
CATEGORIES:Men's Club
END:VEVENT
BEGIN:VEVENT
DTSTART;VALUE=DATE:20260120
DTEND;VALUE=DATE:20260121
DTSTAMP:20260423T151116
CREATED:20250918T151139Z
LAST-MODIFIED:20250918T202103Z
UID:10000150-1768867200-1768953599@www.desertfallsgolf.com
SUMMARY:WGA Ladies
DESCRIPTION:Play Day 11
URL:https://www.desertfallsgolf.com/event/wga-ladies-15/
CATEGORIES:WGA- Ladies
END:VEVENT
BEGIN:VEVENT
DTSTART;VALUE=DATE:20260121
DTEND;VALUE=DATE:20260122
DTSTAMP:20260423T151116
CREATED:20250918T150130Z
LAST-MODIFIED:20250918T195356Z
UID:10000117-1768953600-1769039999@www.desertfallsgolf.com
SUMMARY:Men's Club
DESCRIPTION:Open Play 14
URL:https://www.desertfallsgolf.com/event/mens-club-18/
CATEGORIES:Men's Club
END:VEVENT
BEGIN:VEVENT
DTSTART;VALUE=DATE:20260122
DTEND;VALUE=DATE:20260123
DTSTAMP:20260423T151116
CREATED:20250918T151152Z
LAST-MODIFIED:20251017T124028Z
UID:10000151-1769040000-1769126399@www.desertfallsgolf.com
SUMMARY:WGA Ladies
DESCRIPTION:Guest Day
URL:https://www.desertfallsgolf.com/event/wga-ladies-16/
CATEGORIES:WGA- Ladies
END:VEVENT
BEGIN:VEVENT
DTSTART;VALUE=DATE:20260122
DTEND;VALUE=DATE:20260126
DTSTAMP:20260423T151116
CREATED:20250916T123637Z
LAST-MODIFIED:20250916T123637Z
UID:10000059-1769040000-1769385599@www.desertfallsgolf.com
SUMMARY:AMEX @ PGA West
DESCRIPTION:
URL:https://www.desertfallsgolf.com/event/amex-pga-west/
END:VEVENT
BEGIN:VEVENT
DTSTART;VALUE=DATE:20260123
DTEND;VALUE=DATE:20260124
DTSTAMP:20260423T151116
CREATED:20250916T123641Z
LAST-MODIFIED:20260107T154208Z
UID:10000060-1769126400-1769212799@www.desertfallsgolf.com
SUMMARY:Pasta Night
DESCRIPTION:
URL:https://www.desertfallsgolf.com/event/spaghetti/
END:VEVENT
BEGIN:VEVENT
DTSTART;VALUE=DATE:20260125
DTEND;VALUE=DATE:20260126
DTSTAMP:20260423T151116
CREATED:20250916T123657Z
LAST-MODIFIED:20250916T123657Z
UID:10000062-1769299200-1769385599@www.desertfallsgolf.com
SUMMARY:NFL- NFC/AFC Championship
DESCRIPTION:
URL:https://www.desertfallsgolf.com/event/nfl-nfc-afc-championship/
END:VEVENT
BEGIN:VEVENT
DTSTART;VALUE=DATE:20260126
DTEND;VALUE=DATE:20260127
DTSTAMP:20260423T151116
CREATED:20250918T150142Z
LAST-MODIFIED:20250918T195309Z
UID:10000118-1769385600-1769471999@www.desertfallsgolf.com
SUMMARY:Men's Club
DESCRIPTION:Can/AM
URL:https://www.desertfallsgolf.com/event/mens-club-19/
CATEGORIES:Men's Club
END:VEVENT
BEGIN:VEVENT
DTSTART;TZID=America/Los_Angeles:20260126T080000
DTEND;TZID=America/Los_Angeles:20260126T080000
DTSTAMP:20260423T151116
CREATED:20250916T123701Z
LAST-MODIFIED:20250916T123701Z
UID:10000063-1769414400-1769414400@www.desertfallsgolf.com
SUMMARY:HOA Meeting
DESCRIPTION:
URL:https://www.desertfallsgolf.com/event/hoa-meeting/
END:VEVENT
BEGIN:VEVENT
DTSTART;VALUE=DATE:20260127
DTEND;VALUE=DATE:20260128
DTSTAMP:20260423T151116
CREATED:20250918T151233Z
LAST-MODIFIED:20250918T202205Z
UID:10000154-1769472000-1769558399@www.desertfallsgolf.com
SUMMARY:WGA Ladies
DESCRIPTION:Member/Member 1
URL:https://www.desertfallsgolf.com/event/wga-ladies-19/
CATEGORIES:WGA- Ladies
END:VEVENT
BEGIN:VEVENT
DTSTART;VALUE=DATE:20260128
DTEND;VALUE=DATE:20260129
DTSTAMP:20260423T151116
CREATED:20250918T150152Z
LAST-MODIFIED:20250918T195328Z
UID:10000119-1769558400-1769644799@www.desertfallsgolf.com
SUMMARY:Men's Club
DESCRIPTION:Can/AM
URL:https://www.desertfallsgolf.com/event/mens-club-20/
CATEGORIES:Men's Club
END:VEVENT
BEGIN:VEVENT
DTSTART;VALUE=DATE:20260129
DTEND;VALUE=DATE:20260130
DTSTAMP:20260423T151116
CREATED:20250918T151245Z
LAST-MODIFIED:20250918T202230Z
UID:10000155-1769644800-1769731199@www.desertfallsgolf.com
SUMMARY:WGA Ladies
DESCRIPTION:Member/Member 2
URL:https://www.desertfallsgolf.com/event/wga-ladies-20/
CATEGORIES:WGA- Ladies
END:VEVENT
BEGIN:VEVENT
DTSTART;VALUE=DATE:20260129
DTEND;VALUE=DATE:20260202
DTSTAMP:20260423T151116
CREATED:20250916T123712Z
LAST-MODIFIED:20250918T204859Z
UID:10000192-1769644800-1769990399@www.desertfallsgolf.com
SUMMARY:Torrey Pines
DESCRIPTION:
URL:https://www.desertfallsgolf.com/event/torrey-pines/
END:VEVENT
BEGIN:VEVENT
DTSTART;VALUE=DATE:20260130
DTEND;VALUE=DATE:20260131
DTSTAMP:20260423T151116
CREATED:20250916T123544Z
LAST-MODIFIED:20250916T123715Z
UID:10000044-1769731200-1769817599@www.desertfallsgolf.com
SUMMARY:Asian Theme
DESCRIPTION:
URL:https://www.desertfallsgolf.com/event/asian-theme/
END:VEVENT
BEGIN:VEVENT
DTSTART;VALUE=DATE:20260202
DTEND;VALUE=DATE:20260203
DTSTAMP:20260423T151116
CREATED:20250918T150206Z
LAST-MODIFIED:20250918T195550Z
UID:10000120-1769990400-1770076799@www.desertfallsgolf.com
SUMMARY:Men's Club
DESCRIPTION:Open Play 15
URL:https://www.desertfallsgolf.com/event/mens-club-21/
CATEGORIES:Men's Club
END:VEVENT
BEGIN:VEVENT
DTSTART;VALUE=DATE:20260203
DTEND;VALUE=DATE:20260204
DTSTAMP:20260423T151116
CREATED:20250918T151309Z
LAST-MODIFIED:20250918T202257Z
UID:10000156-1770076800-1770163199@www.desertfallsgolf.com
SUMMARY:WGA Ladies
DESCRIPTION:Play Day 12
URL:https://www.desertfallsgolf.com/event/wga-ladies-21/
CATEGORIES:WGA- Ladies
END:VEVENT
BEGIN:VEVENT
DTSTART;VALUE=DATE:20260204
DTEND;VALUE=DATE:20260205
DTSTAMP:20260423T151116
CREATED:20250918T150217Z
LAST-MODIFIED:20250918T195609Z
UID:10000121-1770163200-1770249599@www.desertfallsgolf.com
SUMMARY:Men's Club
DESCRIPTION:Open Play 16
URL:https://www.desertfallsgolf.com/event/mens-club-22/
CATEGORIES:Men's Club
END:VEVENT
BEGIN:VEVENT
DTSTART;VALUE=DATE:20260205
DTEND;VALUE=DATE:20260206
DTSTAMP:20260423T151116
CREATED:20250918T151338Z
LAST-MODIFIED:20250918T202317Z
UID:10000157-1770249600-1770335999@www.desertfallsgolf.com
SUMMARY:WGA Ladies
DESCRIPTION:Team Step
URL:https://www.desertfallsgolf.com/event/wga-ladies-22/
CATEGORIES:WGA- Ladies
END:VEVENT
BEGIN:VEVENT
DTSTART;VALUE=DATE:20260205
DTEND;VALUE=DATE:20260209
DTSTAMP:20260423T151116
CREATED:20250916T123818Z
LAST-MODIFIED:20250916T123818Z
UID:10000064-1770249600-1770595199@www.desertfallsgolf.com
SUMMARY:PHX Open
DESCRIPTION:
URL:https://www.desertfallsgolf.com/event/phx-open/
END:VEVENT
BEGIN:VEVENT
DTSTART;VALUE=DATE:20260208
DTEND;VALUE=DATE:20260209
DTSTAMP:20260423T151116
CREATED:20250916T123852Z
LAST-MODIFIED:20250916T123852Z
UID:10000066-1770508800-1770595199@www.desertfallsgolf.com
SUMMARY:Super Bowl Watch Party
DESCRIPTION:
URL:https://www.desertfallsgolf.com/event/super-bowl-watch-party/
END:VEVENT
BEGIN:VEVENT
DTSTART;VALUE=DATE:20260209
DTEND;VALUE=DATE:20260210
DTSTAMP:20260423T151116
CREATED:20250918T150229Z
LAST-MODIFIED:20250918T195632Z
UID:10000122-1770595200-1770681599@www.desertfallsgolf.com
SUMMARY:Men's Club
DESCRIPTION:Open Play 17
URL:https://www.desertfallsgolf.com/event/mens-club-23/
CATEGORIES:Men's Club
END:VEVENT
END:VCALENDAR