BEGIN:VCALENDAR
VERSION:2.0
PRODID:-//Desert Falls Country Club - ECPv6.15.18//NONSGML v1.0//EN
CALSCALE:GREGORIAN
METHOD:PUBLISH
X-WR-CALNAME:Desert Falls Country Club
X-ORIGINAL-URL:https://www.desertfallsgolf.com
X-WR-CALDESC:Events for Desert Falls Country Club
REFRESH-INTERVAL;VALUE=DURATION:PT1H
X-Robots-Tag:noindex
X-PUBLISHED-TTL:PT1H
BEGIN:VTIMEZONE
TZID:America/Los_Angeles
BEGIN:DAYLIGHT
TZOFFSETFROM:-0800
TZOFFSETTO:-0700
TZNAME:PDT
DTSTART:20240310T100000
END:DAYLIGHT
BEGIN:STANDARD
TZOFFSETFROM:-0700
TZOFFSETTO:-0800
TZNAME:PST
DTSTART:20241103T090000
END:STANDARD
BEGIN:DAYLIGHT
TZOFFSETFROM:-0800
TZOFFSETTO:-0700
TZNAME:PDT
DTSTART:20250309T100000
END:DAYLIGHT
BEGIN:STANDARD
TZOFFSETFROM:-0700
TZOFFSETTO:-0800
TZNAME:PST
DTSTART:20251102T090000
END:STANDARD
BEGIN:DAYLIGHT
TZOFFSETFROM:-0800
TZOFFSETTO:-0700
TZNAME:PDT
DTSTART:20260308T100000
END:DAYLIGHT
BEGIN:STANDARD
TZOFFSETFROM:-0700
TZOFFSETTO:-0800
TZNAME:PST
DTSTART:20261101T090000
END:STANDARD
BEGIN:DAYLIGHT
TZOFFSETFROM:-0800
TZOFFSETTO:-0700
TZNAME:PDT
DTSTART:20270314T100000
END:DAYLIGHT
BEGIN:STANDARD
TZOFFSETFROM:-0700
TZOFFSETTO:-0800
TZNAME:PST
DTSTART:20271107T090000
END:STANDARD
END:VTIMEZONE
BEGIN:VEVENT
DTSTART;VALUE=DATE:20251209
DTEND;VALUE=DATE:20251210
DTSTAMP:20260423T120244
CREATED:20250918T150950Z
LAST-MODIFIED:20250918T201401Z
UID:10000142-1765238400-1765324799@www.desertfallsgolf.com
SUMMARY:WGA Ladies
DESCRIPTION:Play Day 5
URL:https://www.desertfallsgolf.com/event/wga-ladies-7/
CATEGORIES:WGA- Ladies
END:VEVENT
BEGIN:VEVENT
DTSTART;VALUE=DATE:20251210
DTEND;VALUE=DATE:20251211
DTSTAMP:20260423T120244
CREATED:20250918T145937Z
LAST-MODIFIED:20250918T194727Z
UID:10000109-1765324800-1765411199@www.desertfallsgolf.com
SUMMARY:Men's Club
DESCRIPTION:Open Play 9
URL:https://www.desertfallsgolf.com/event/mens-club-10/
CATEGORIES:Men's Club
END:VEVENT
BEGIN:VEVENT
DTSTART;VALUE=DATE:20251211
DTEND;VALUE=DATE:20251212
DTSTAMP:20260423T120244
CREATED:20250916T122239Z
LAST-MODIFIED:20250916T122239Z
UID:10000034-1765411200-1765497599@www.desertfallsgolf.com
SUMMARY:TNF-Jets vs Patriots
DESCRIPTION:
URL:https://www.desertfallsgolf.com/event/tnf-jets-vs-patriots/
END:VEVENT
BEGIN:VEVENT
DTSTART;VALUE=DATE:20251211
DTEND;VALUE=DATE:20251212
DTSTAMP:20260423T120244
CREATED:20250918T151002Z
LAST-MODIFIED:20250918T201420Z
UID:10000143-1765411200-1765497599@www.desertfallsgolf.com
SUMMARY:WGA Ladies
DESCRIPTION:Team Crossover
URL:https://www.desertfallsgolf.com/event/wga-ladies-8/
CATEGORIES:WGA- Ladies
END:VEVENT
BEGIN:VEVENT
DTSTART;TZID=America/Los_Angeles:20251211T160000
DTEND;TZID=America/Los_Angeles:20251211T180000
DTSTAMP:20260423T120244
CREATED:20250916T122219Z
LAST-MODIFIED:20251017T123747Z
UID:10000033-1765468800-1765476000@www.desertfallsgolf.com
SUMMARY:Wine Night
DESCRIPTION:
URL:https://www.desertfallsgolf.com/event/wine-night/
END:VEVENT
BEGIN:VEVENT
DTSTART;VALUE=DATE:20251212
DTEND;VALUE=DATE:20251213
DTSTAMP:20260423T120244
CREATED:20250916T122257Z
LAST-MODIFIED:20250916T122257Z
UID:10000035-1765497600-1765583999@www.desertfallsgolf.com
SUMMARY:Fried Chicken
DESCRIPTION:
URL:https://www.desertfallsgolf.com/event/fried-chicken/
END:VEVENT
BEGIN:VEVENT
DTSTART;VALUE=DATE:20251215
DTEND;VALUE=DATE:20251216
DTSTAMP:20260423T120244
CREATED:20250916T122346Z
LAST-MODIFIED:20250916T122346Z
UID:10000037-1765756800-1765843199@www.desertfallsgolf.com
SUMMARY:MNF- Dolphins vs Steelers
DESCRIPTION:
URL:https://www.desertfallsgolf.com/event/mnf-dolphins-vs-steelers/
END:VEVENT
BEGIN:VEVENT
DTSTART;VALUE=DATE:20251215
DTEND;VALUE=DATE:20251216
DTSTAMP:20260423T120244
CREATED:20250918T145948Z
LAST-MODIFIED:20250918T194748Z
UID:10000110-1765756800-1765843199@www.desertfallsgolf.com
SUMMARY:Men's Club
DESCRIPTION:Open Play 10
URL:https://www.desertfallsgolf.com/event/mens-club-11/
CATEGORIES:Men's Club
END:VEVENT
BEGIN:VEVENT
DTSTART;VALUE=DATE:20251216
DTEND;VALUE=DATE:20251217
DTSTAMP:20260423T120244
CREATED:20250918T151022Z
LAST-MODIFIED:20250918T201439Z
UID:10000144-1765843200-1765929599@www.desertfallsgolf.com
SUMMARY:WGA Ladies
DESCRIPTION:Play Day 6
URL:https://www.desertfallsgolf.com/event/wga-ladies-9/
CATEGORIES:WGA- Ladies
END:VEVENT
BEGIN:VEVENT
DTSTART;VALUE=DATE:20251217
DTEND;VALUE=DATE:20251218
DTSTAMP:20260423T120244
CREATED:20250918T150000Z
LAST-MODIFIED:20250918T194809Z
UID:10000111-1765929600-1766015999@www.desertfallsgolf.com
SUMMARY:Men's Club
DESCRIPTION:Christmas Scramble
URL:https://www.desertfallsgolf.com/event/mens-club-12/
CATEGORIES:Men's Club
END:VEVENT
BEGIN:VEVENT
DTSTART;TZID=America/Los_Angeles:20251217T170000
DTEND;TZID=America/Los_Angeles:20251217T200000
DTSTAMP:20260423T120244
CREATED:20250916T122330Z
LAST-MODIFIED:20250918T205746Z
UID:10000036-1765990800-1766001600@www.desertfallsgolf.com
SUMMARY:Bingo
DESCRIPTION:
URL:https://www.desertfallsgolf.com/event/bingo/
END:VEVENT
BEGIN:VEVENT
DTSTART;VALUE=DATE:20251218
DTEND;VALUE=DATE:20251219
DTSTAMP:20260423T120244
CREATED:20250916T122414Z
LAST-MODIFIED:20250916T122414Z
UID:10000038-1766016000-1766102399@www.desertfallsgolf.com
SUMMARY:TNF-Bills vs Texans
DESCRIPTION:
URL:https://www.desertfallsgolf.com/event/tnf-bills-vs-texans/
END:VEVENT
BEGIN:VEVENT
DTSTART;VALUE=DATE:20251218
DTEND;VALUE=DATE:20251219
DTSTAMP:20260423T120244
CREATED:20250918T151035Z
LAST-MODIFIED:20250918T201457Z
UID:10000145-1766016000-1766102399@www.desertfallsgolf.com
SUMMARY:WGA Ladies
DESCRIPTION:Low Net
URL:https://www.desertfallsgolf.com/event/wga-ladies-10/
CATEGORIES:WGA- Ladies
END:VEVENT
BEGIN:VEVENT
DTSTART;VALUE=DATE:20251219
DTEND;VALUE=DATE:20251220
DTSTAMP:20260423T120244
CREATED:20250916T122433Z
LAST-MODIFIED:20250916T122433Z
UID:10000039-1766102400-1766188799@www.desertfallsgolf.com
SUMMARY:Prime Rib
DESCRIPTION:
URL:https://www.desertfallsgolf.com/event/prime-rib/
END:VEVENT
BEGIN:VEVENT
DTSTART;VALUE=DATE:20251222
DTEND;VALUE=DATE:20251223
DTSTAMP:20260423T120244
CREATED:20250916T122451Z
LAST-MODIFIED:20250916T122451Z
UID:10000040-1766361600-1766447999@www.desertfallsgolf.com
SUMMARY:MNF- 49ers vs Colts
DESCRIPTION:
URL:https://www.desertfallsgolf.com/event/mnf-49ers-vs-colts/
END:VEVENT
BEGIN:VEVENT
DTSTART;VALUE=DATE:20251222
DTEND;VALUE=DATE:20251223
DTSTAMP:20260423T120244
CREATED:20250918T194912Z
LAST-MODIFIED:20250918T194912Z
UID:10000176-1766361600-1766447999@www.desertfallsgolf.com
SUMMARY:Men's Club
DESCRIPTION:Open Play 11
URL:https://www.desertfallsgolf.com/event/mens-club-36/
CATEGORIES:Men's Club
END:VEVENT
BEGIN:VEVENT
DTSTART;VALUE=DATE:20251223
DTEND;VALUE=DATE:20251224
DTSTAMP:20260423T120244
CREATED:20250918T201543Z
LAST-MODIFIED:20250918T201616Z
UID:10000181-1766448000-1766534399@www.desertfallsgolf.com
SUMMARY:WGA Ladies
DESCRIPTION:Play Day 7
URL:https://www.desertfallsgolf.com/event/wga-ladies-4/
CATEGORIES:WGA- Ladies
END:VEVENT
BEGIN:VEVENT
DTSTART;VALUE=DATE:20251225
DTEND;VALUE=DATE:20251226
DTSTAMP:20260423T120244
CREATED:20250916T122515Z
LAST-MODIFIED:20250916T122515Z
UID:10000041-1766620800-1766707199@www.desertfallsgolf.com
SUMMARY:Clubhouse Closed
DESCRIPTION:
URL:https://www.desertfallsgolf.com/event/clubhouse-closed/
END:VEVENT
BEGIN:VEVENT
DTSTART;VALUE=DATE:20251229
DTEND;VALUE=DATE:20251230
DTSTAMP:20260423T120244
CREATED:20250916T122530Z
LAST-MODIFIED:20250916T122530Z
UID:10000042-1766966400-1767052799@www.desertfallsgolf.com
SUMMARY:MNF- Rams vs Falcons
DESCRIPTION:
URL:https://www.desertfallsgolf.com/event/mnf-rams-vs-falcons/
END:VEVENT
BEGIN:VEVENT
DTSTART;VALUE=DATE:20251229
DTEND;VALUE=DATE:20251230
DTSTAMP:20260423T120244
CREATED:20250918T195006Z
LAST-MODIFIED:20250918T195006Z
UID:10000177-1766966400-1767052799@www.desertfallsgolf.com
SUMMARY:Men's Club
DESCRIPTION:Open Play 12
URL:https://www.desertfallsgolf.com/event/mens-club-37/
CATEGORIES:Men's Club
END:VEVENT
BEGIN:VEVENT
DTSTART;VALUE=DATE:20251230
DTEND;VALUE=DATE:20251231
DTSTAMP:20260423T120244
CREATED:20250918T201710Z
LAST-MODIFIED:20250918T201710Z
UID:10000182-1767052800-1767139199@www.desertfallsgolf.com
SUMMARY:WGA Ladies
DESCRIPTION:Play Day 8
URL:https://www.desertfallsgolf.com/event/wga-ladies-35/
CATEGORIES:WGA- Ladies
END:VEVENT
BEGIN:VEVENT
DTSTART;TZID=America/Los_Angeles:20251231T163000
DTEND;TZID=America/Los_Angeles:20251231T220000
DTSTAMP:20260423T120244
CREATED:20250916T122545Z
LAST-MODIFIED:20251125T141020Z
UID:10000043-1767198600-1767218400@www.desertfallsgolf.com
SUMMARY:New Year's Eve Party
DESCRIPTION:NEW YEAR’S EVE CELEBRATION\nWednesday\, December 31\, 2025\nDesert Falls Country Club – Majestic Ballroom \nRing in the New Year with an elegant four-course plated dinner\, live DJ\, dancing\, and a sparkling toast as we watch the New York Ball Drop together. \nSchedule of the Evening \n\n4:30 PM – Check-In & Cocktail Hour\n5:45 PM – First Course Served (Dinner Begins)\n7:30 PM – DJ & Dancing\n9:00 PM – New York Ball Drop & Sparkling Wine or Cider Toast\n\nFour-Course Plated Dinner \nFirst Course\nCrab & Avocado Tower\nLump crab\, avocado\, and mango \nSecond Course\nBaby Greens Salad\nCitrus vinaigrette\, shaved Parmesan \nThird Course – Choice of Entrée\n8 oz. Filet Mignon\nor\n8 oz. Pan-Seared Halibut\nServed with scalloped potatoes and asparagus \nFinal Course – Dessert\nBlack Cherry Cheesecake \nAttire: Festive Cocktail\nLocation: Desert Falls Country Club – Majestic Ballroom \nRSVP:\nPlease RSVP by Friday\, December 26th to Jeanette at accounting@desertfallsgolf.com or 760-340-5646\nKindly indicate your entrée selection (Filet Mignon or Halibut) with your response. \nWe look forward to celebrating New Year’s Eve with you! \n 
URL:https://www.desertfallsgolf.com/event/new-years-eve-party/
LOCATION:Majestic Ballroom
ORGANIZER;CN="Desert Falls Country Club":MAILTO:events@desertfallsgolf.com
END:VEVENT
BEGIN:VEVENT
DTSTART;VALUE=DATE:20260101
DTEND;VALUE=DATE:20260102
DTSTAMP:20260423T120244
CREATED:20250916T123553Z
LAST-MODIFIED:20250916T123553Z
UID:10000045-1767225600-1767311999@www.desertfallsgolf.com
SUMMARY:Orange Bowl
DESCRIPTION:
URL:https://www.desertfallsgolf.com/event/orange-bowl/
END:VEVENT
BEGIN:VEVENT
DTSTART;VALUE=DATE:20260101
DTEND;VALUE=DATE:20260102
DTSTAMP:20260423T120244
CREATED:20250916T123556Z
LAST-MODIFIED:20250916T123556Z
UID:10000046-1767225600-1767311999@www.desertfallsgolf.com
SUMMARY:Rose Bowl
DESCRIPTION:
URL:https://www.desertfallsgolf.com/event/rose-bowl/
END:VEVENT
BEGIN:VEVENT
DTSTART;VALUE=DATE:20260101
DTEND;VALUE=DATE:20260102
DTSTAMP:20260423T120244
CREATED:20250916T123559Z
LAST-MODIFIED:20250916T123559Z
UID:10000047-1767225600-1767311999@www.desertfallsgolf.com
SUMMARY:Sugar Bowl
DESCRIPTION:
URL:https://www.desertfallsgolf.com/event/sugar-bowl/
END:VEVENT
BEGIN:VEVENT
DTSTART;VALUE=DATE:20260101
DTEND;VALUE=DATE:20260102
DTSTAMP:20260423T120244
CREATED:20250916T123602Z
LAST-MODIFIED:20250916T123602Z
UID:10000048-1767225600-1767311999@www.desertfallsgolf.com
SUMMARY:All College Playoffs
DESCRIPTION:
URL:https://www.desertfallsgolf.com/event/all-college-playoffs/
END:VEVENT
BEGIN:VEVENT
DTSTART;VALUE=DATE:20260102
DTEND;VALUE=DATE:20260103
DTSTAMP:20260423T120244
CREATED:20250916T123606Z
LAST-MODIFIED:20250916T123606Z
UID:10000049-1767312000-1767398399@www.desertfallsgolf.com
SUMMARY:Fish 'n' Chips
DESCRIPTION:
URL:https://www.desertfallsgolf.com/event/fish-n-chips/
END:VEVENT
BEGIN:VEVENT
DTSTART;VALUE=DATE:20260105
DTEND;VALUE=DATE:20260106
DTSTAMP:20260423T120244
CREATED:20250918T150016Z
LAST-MODIFIED:20250918T195045Z
UID:10000112-1767571200-1767657599@www.desertfallsgolf.com
SUMMARY:Men's Club
DESCRIPTION:Governors Cup Day 1
URL:https://www.desertfallsgolf.com/event/mens-club-13/
CATEGORIES:Men's Club
END:VEVENT
BEGIN:VEVENT
DTSTART;VALUE=DATE:20260106
DTEND;VALUE=DATE:20260107
DTSTAMP:20260423T120244
CREATED:20250918T151056Z
LAST-MODIFIED:20250918T201905Z
UID:10000146-1767657600-1767743999@www.desertfallsgolf.com
SUMMARY:WGA Ladies
DESCRIPTION:Play Day 9
URL:https://www.desertfallsgolf.com/event/wga-ladies-11/
CATEGORIES:WGA- Ladies
END:VEVENT
BEGIN:VEVENT
DTSTART;VALUE=DATE:20260107
DTEND;VALUE=DATE:20260108
DTSTAMP:20260423T120244
CREATED:20250918T150029Z
LAST-MODIFIED:20250918T195105Z
UID:10000113-1767744000-1767830399@www.desertfallsgolf.com
SUMMARY:Men's Club
DESCRIPTION:Govenors Cup Day 2
URL:https://www.desertfallsgolf.com/event/mens-club-14/
CATEGORIES:Men's Club
END:VEVENT
END:VCALENDAR