BEGIN:VCALENDAR
VERSION:2.0
PRODID:-//Desert Falls Country Club - ECPv6.15.18//NONSGML v1.0//EN
CALSCALE:GREGORIAN
METHOD:PUBLISH
X-WR-CALNAME:Desert Falls Country Club
X-ORIGINAL-URL:https://www.desertfallsgolf.com
X-WR-CALDESC:Events for Desert Falls Country Club
REFRESH-INTERVAL;VALUE=DURATION:PT1H
X-Robots-Tag:noindex
X-PUBLISHED-TTL:PT1H
BEGIN:VTIMEZONE
TZID:America/Los_Angeles
BEGIN:DAYLIGHT
TZOFFSETFROM:-0800
TZOFFSETTO:-0700
TZNAME:PDT
DTSTART:20250309T100000
END:DAYLIGHT
BEGIN:STANDARD
TZOFFSETFROM:-0700
TZOFFSETTO:-0800
TZNAME:PST
DTSTART:20251102T090000
END:STANDARD
BEGIN:DAYLIGHT
TZOFFSETFROM:-0800
TZOFFSETTO:-0700
TZNAME:PDT
DTSTART:20260308T100000
END:DAYLIGHT
BEGIN:STANDARD
TZOFFSETFROM:-0700
TZOFFSETTO:-0800
TZNAME:PST
DTSTART:20261101T090000
END:STANDARD
BEGIN:DAYLIGHT
TZOFFSETFROM:-0800
TZOFFSETTO:-0700
TZNAME:PDT
DTSTART:20270314T100000
END:DAYLIGHT
BEGIN:STANDARD
TZOFFSETFROM:-0700
TZOFFSETTO:-0800
TZNAME:PST
DTSTART:20271107T090000
END:STANDARD
END:VTIMEZONE
BEGIN:VEVENT
DTSTART;VALUE=DATE:20260423
DTEND;VALUE=DATE:20260427
DTSTAMP:20260424T031719
CREATED:20250916T125330Z
LAST-MODIFIED:20250916T125330Z
UID:10000094-1776902400-1777247999@www.desertfallsgolf.com
SUMMARY:Zurich
DESCRIPTION:
URL:https://www.desertfallsgolf.com/event/zurich/
END:VEVENT
BEGIN:VEVENT
DTSTART;VALUE=DATE:20260424
DTEND;VALUE=DATE:20260427
DTSTAMP:20260424T031719
CREATED:20250916T125348Z
LAST-MODIFIED:20250916T125348Z
UID:10000095-1776988800-1777247999@www.desertfallsgolf.com
SUMMARY:Stagecoach
DESCRIPTION:
URL:https://www.desertfallsgolf.com/event/stagecoach/
END:VEVENT
BEGIN:VEVENT
DTSTART;VALUE=DATE:20260425
DTEND;VALUE=DATE:20260426
DTSTAMP:20260424T031719
CREATED:20250916T125402Z
LAST-MODIFIED:20250916T125402Z
UID:10000096-1777075200-1777161599@www.desertfallsgolf.com
SUMMARY:Closing Party
DESCRIPTION:
URL:https://www.desertfallsgolf.com/event/closing-party/
END:VEVENT
BEGIN:VEVENT
DTSTART;TZID=America/Los_Angeles:20260510T110000
DTEND;TZID=America/Los_Angeles:20260510T150000
DTSTAMP:20260424T031719
CREATED:20250916T125614Z
LAST-MODIFIED:20250918T170608Z
UID:10000099-1778410800-1778425200@www.desertfallsgolf.com
SUMMARY:Mother's Day Brunch
DESCRIPTION:
URL:https://www.desertfallsgolf.com/event/mothers-day-brunch/
END:VEVENT
BEGIN:VEVENT
DTSTART;VALUE=DATE:20260512
DTEND;VALUE=DATE:20260513
DTSTAMP:20260424T031719
CREATED:20250918T170814Z
LAST-MODIFIED:20250918T170814Z
UID:10000171-1778544000-1778630399@www.desertfallsgolf.com
SUMMARY:Summer Hours Start
DESCRIPTION:Sumer Hours: Golf- 6am-12pm\nSnack Bar- 6am-10am\nLounge Bar- 10:30am-3pm
URL:https://www.desertfallsgolf.com/event/summer-hours-start/
END:VEVENT
BEGIN:VEVENT
DTSTART;VALUE=DATE:20260601
DTEND;VALUE=DATE:20260602
DTSTAMP:20260424T031719
CREATED:20250918T170858Z
LAST-MODIFIED:20250918T171044Z
UID:10000172-1780272000-1780358399@www.desertfallsgolf.com
SUMMARY:Summer Hours
DESCRIPTION:Sumer Hours: Golf- 6am-12pm\nSnack Bar- 6am-10am\nLounge Bar- 10:30am-3pm
URL:https://www.desertfallsgolf.com/event/summer-hours/
END:VEVENT
END:VCALENDAR