BEGIN:VCALENDAR
VERSION:2.0
PRODID:-//Desert Falls Country Club - ECPv6.15.18//NONSGML v1.0//EN
CALSCALE:GREGORIAN
METHOD:PUBLISH
X-ORIGINAL-URL:https://www.desertfallsgolf.com
X-WR-CALDESC:Events for Desert Falls Country Club
REFRESH-INTERVAL;VALUE=DURATION:PT1H
X-Robots-Tag:noindex
X-PUBLISHED-TTL:PT1H
BEGIN:VTIMEZONE
TZID:America/Los_Angeles
BEGIN:DAYLIGHT
TZOFFSETFROM:-0800
TZOFFSETTO:-0700
TZNAME:PDT
DTSTART:20250309T100000
END:DAYLIGHT
BEGIN:STANDARD
TZOFFSETFROM:-0700
TZOFFSETTO:-0800
TZNAME:PST
DTSTART:20251102T090000
END:STANDARD
BEGIN:DAYLIGHT
TZOFFSETFROM:-0800
TZOFFSETTO:-0700
TZNAME:PDT
DTSTART:20260308T100000
END:DAYLIGHT
BEGIN:STANDARD
TZOFFSETFROM:-0700
TZOFFSETTO:-0800
TZNAME:PST
DTSTART:20261101T090000
END:STANDARD
BEGIN:DAYLIGHT
TZOFFSETFROM:-0800
TZOFFSETTO:-0700
TZNAME:PDT
DTSTART:20270314T100000
END:DAYLIGHT
BEGIN:STANDARD
TZOFFSETFROM:-0700
TZOFFSETTO:-0800
TZNAME:PST
DTSTART:20271107T090000
END:STANDARD
END:VTIMEZONE
BEGIN:VEVENT
DTSTART;VALUE=DATE:20260327
DTEND;VALUE=DATE:20260329
DTSTAMP:20260425T040950
CREATED:20250918T204706Z
LAST-MODIFIED:20250918T204706Z
UID:10000191-1774569600-1774742399@www.desertfallsgolf.com
SUMMARY:Member/Guest-Men's
DESCRIPTION:
URL:https://www.desertfallsgolf.com/event/member-guest-mens/
CATEGORIES:Men's Club
END:VEVENT
BEGIN:VEVENT
DTSTART;VALUE=DATE:20260330
DTEND;VALUE=DATE:20260331
DTSTAMP:20260425T040950
CREATED:20250918T200659Z
LAST-MODIFIED:20250918T200659Z
UID:10000178-1774828800-1774915199@www.desertfallsgolf.com
SUMMARY:Men's Club
DESCRIPTION:Open Play 22
URL:https://www.desertfallsgolf.com/event/mens-club-38/
CATEGORIES:Men's Club
END:VEVENT
BEGIN:VEVENT
DTSTART;VALUE=DATE:20260331
DTEND;VALUE=DATE:20260401
DTSTAMP:20260425T040950
CREATED:20250918T203403Z
LAST-MODIFIED:20250918T203403Z
UID:10000184-1774915200-1775001599@www.desertfallsgolf.com
SUMMARY:WGA Ladies
DESCRIPTION:Play Day 17
URL:https://www.desertfallsgolf.com/event/wga-ladies-37/
CATEGORIES:WGA- Ladies
END:VEVENT
BEGIN:VEVENT
DTSTART;VALUE=DATE:20260402
DTEND;VALUE=DATE:20260403
DTSTAMP:20260425T040950
CREATED:20250918T203450Z
LAST-MODIFIED:20250918T203450Z
UID:10000185-1775088000-1775174399@www.desertfallsgolf.com
SUMMARY:WGA- Ladies
DESCRIPTION:Team
URL:https://www.desertfallsgolf.com/event/wga-ladies-38/
CATEGORIES:WGA- Ladies
END:VEVENT
BEGIN:VEVENT
DTSTART;VALUE=DATE:20260402
DTEND;VALUE=DATE:20260406
DTSTAMP:20260425T040950
CREATED:20250916T124931Z
LAST-MODIFIED:20250916T124931Z
UID:10000084-1775088000-1775433599@www.desertfallsgolf.com
SUMMARY:Valero Champ
DESCRIPTION:
URL:https://www.desertfallsgolf.com/event/valero-champ/
END:VEVENT
BEGIN:VEVENT
DTSTART;VALUE=DATE:20260403
DTEND;VALUE=DATE:20260404
DTSTAMP:20260425T040950
CREATED:20250916T124945Z
LAST-MODIFIED:20250916T124945Z
UID:10000085-1775174400-1775260799@www.desertfallsgolf.com
SUMMARY:Seafood Night
DESCRIPTION:
URL:https://www.desertfallsgolf.com/event/seafood-night/
END:VEVENT
BEGIN:VEVENT
DTSTART;TZID=America/Los_Angeles:20260405T100000
DTEND;TZID=America/Los_Angeles:20260405T140000
DTSTAMP:20260425T040950
CREATED:20250916T125005Z
LAST-MODIFIED:20250918T203826Z
UID:10000086-1775383200-1775397600@www.desertfallsgolf.com
SUMMARY:Easter Brunch
DESCRIPTION:
URL:https://www.desertfallsgolf.com/event/easter-brunch/
END:VEVENT
BEGIN:VEVENT
DTSTART;VALUE=DATE:20260407
DTEND;VALUE=DATE:20260408
DTSTAMP:20260425T040950
CREATED:20250918T203519Z
LAST-MODIFIED:20250918T203519Z
UID:10000186-1775520000-1775606399@www.desertfallsgolf.com
SUMMARY:WGA- Ladies
DESCRIPTION:Play Day 18
URL:https://www.desertfallsgolf.com/event/wga-ladies-39/
CATEGORIES:WGA- Ladies
END:VEVENT
BEGIN:VEVENT
DTSTART;VALUE=DATE:20260409
DTEND;VALUE=DATE:20260410
DTSTAMP:20260425T040950
CREATED:20250918T203606Z
LAST-MODIFIED:20250918T203606Z
UID:10000187-1775692800-1775779199@www.desertfallsgolf.com
SUMMARY:WGA- Ladies
DESCRIPTION:Team Cha Cha
URL:https://www.desertfallsgolf.com/event/wga-ladies-40/
CATEGORIES:WGA- Ladies
END:VEVENT
BEGIN:VEVENT
DTSTART;VALUE=DATE:20260409
DTEND;VALUE=DATE:20260413
DTSTAMP:20260425T040950
CREATED:20250916T125123Z
LAST-MODIFIED:20250916T125123Z
UID:10000088-1775692800-1776038399@www.desertfallsgolf.com
SUMMARY:The Masters
DESCRIPTION:
URL:https://www.desertfallsgolf.com/event/the-masters/
END:VEVENT
BEGIN:VEVENT
DTSTART;VALUE=DATE:20260410
DTEND;VALUE=DATE:20260411
DTSTAMP:20260425T040950
CREATED:20250916T125142Z
LAST-MODIFIED:20250916T125142Z
UID:10000089-1775779200-1775865599@www.desertfallsgolf.com
SUMMARY:Fried Chicken
DESCRIPTION:
URL:https://www.desertfallsgolf.com/event/fried-chicken-3/
END:VEVENT
BEGIN:VEVENT
DTSTART;VALUE=DATE:20260410
DTEND;VALUE=DATE:20260413
DTSTAMP:20260425T040950
CREATED:20250916T125201Z
LAST-MODIFIED:20250916T125201Z
UID:10000090-1775779200-1776038399@www.desertfallsgolf.com
SUMMARY:Coachella Weekend 1
DESCRIPTION:
URL:https://www.desertfallsgolf.com/event/coachella-weekend-1/
END:VEVENT
BEGIN:VEVENT
DTSTART;VALUE=DATE:20260414
DTEND;VALUE=DATE:20260415
DTSTAMP:20260425T040950
CREATED:20250918T203633Z
LAST-MODIFIED:20250918T203633Z
UID:10000188-1776124800-1776211199@www.desertfallsgolf.com
SUMMARY:WGA- Ladies
DESCRIPTION:Play Day 19
URL:https://www.desertfallsgolf.com/event/wga-ladies-41/
CATEGORIES:WGA- Ladies
END:VEVENT
BEGIN:VEVENT
DTSTART;VALUE=DATE:20260416
DTEND;VALUE=DATE:20260417
DTSTAMP:20260425T040950
CREATED:20250918T203710Z
LAST-MODIFIED:20250918T203710Z
UID:10000189-1776297600-1776383999@www.desertfallsgolf.com
SUMMARY:WGA- Ladies
DESCRIPTION:Low Net
URL:https://www.desertfallsgolf.com/event/wga-ladies-42/
CATEGORIES:WGA- Ladies
END:VEVENT
BEGIN:VEVENT
DTSTART;VALUE=DATE:20260416
DTEND;VALUE=DATE:20260420
DTSTAMP:20260425T040950
CREATED:20250916T125250Z
LAST-MODIFIED:20250916T125250Z
UID:10000092-1776297600-1776643199@www.desertfallsgolf.com
SUMMARY:RBC
DESCRIPTION:
URL:https://www.desertfallsgolf.com/event/rbc/
END:VEVENT
BEGIN:VEVENT
DTSTART;VALUE=DATE:20260417
DTEND;VALUE=DATE:20260420
DTSTAMP:20260425T040950
CREATED:20250916T125310Z
LAST-MODIFIED:20250916T125310Z
UID:10000093-1776384000-1776643199@www.desertfallsgolf.com
SUMMARY:Coachella Weekend 2
DESCRIPTION:
URL:https://www.desertfallsgolf.com/event/coachella-weekend-2/
END:VEVENT
BEGIN:VEVENT
DTSTART;VALUE=DATE:20260423
DTEND;VALUE=DATE:20260427
DTSTAMP:20260425T040950
CREATED:20250916T125330Z
LAST-MODIFIED:20250916T125330Z
UID:10000094-1776902400-1777247999@www.desertfallsgolf.com
SUMMARY:Zurich
DESCRIPTION:
URL:https://www.desertfallsgolf.com/event/zurich/
END:VEVENT
BEGIN:VEVENT
DTSTART;VALUE=DATE:20260424
DTEND;VALUE=DATE:20260427
DTSTAMP:20260425T040950
CREATED:20250916T125348Z
LAST-MODIFIED:20250916T125348Z
UID:10000095-1776988800-1777247999@www.desertfallsgolf.com
SUMMARY:Stagecoach
DESCRIPTION:
URL:https://www.desertfallsgolf.com/event/stagecoach/
END:VEVENT
BEGIN:VEVENT
DTSTART;VALUE=DATE:20260425
DTEND;VALUE=DATE:20260426
DTSTAMP:20260425T040950
CREATED:20250916T125402Z
LAST-MODIFIED:20250916T125402Z
UID:10000096-1777075200-1777161599@www.desertfallsgolf.com
SUMMARY:Closing Party
DESCRIPTION:
URL:https://www.desertfallsgolf.com/event/closing-party/
END:VEVENT
BEGIN:VEVENT
DTSTART;TZID=America/Los_Angeles:20260510T110000
DTEND;TZID=America/Los_Angeles:20260510T150000
DTSTAMP:20260425T040950
CREATED:20250916T125614Z
LAST-MODIFIED:20250918T170608Z
UID:10000099-1778410800-1778425200@www.desertfallsgolf.com
SUMMARY:Mother's Day Brunch
DESCRIPTION:
URL:https://www.desertfallsgolf.com/event/mothers-day-brunch/
END:VEVENT
BEGIN:VEVENT
DTSTART;VALUE=DATE:20260512
DTEND;VALUE=DATE:20260513
DTSTAMP:20260425T040950
CREATED:20250918T170814Z
LAST-MODIFIED:20250918T170814Z
UID:10000171-1778544000-1778630399@www.desertfallsgolf.com
SUMMARY:Summer Hours Start
DESCRIPTION:Sumer Hours: Golf- 6am-12pm\nSnack Bar- 6am-10am\nLounge Bar- 10:30am-3pm
URL:https://www.desertfallsgolf.com/event/summer-hours-start/
END:VEVENT
BEGIN:VEVENT
DTSTART;VALUE=DATE:20260601
DTEND;VALUE=DATE:20260602
DTSTAMP:20260425T040950
CREATED:20250918T170858Z
LAST-MODIFIED:20250918T171044Z
UID:10000172-1780272000-1780358399@www.desertfallsgolf.com
SUMMARY:Summer Hours
DESCRIPTION:Sumer Hours: Golf- 6am-12pm\nSnack Bar- 6am-10am\nLounge Bar- 10:30am-3pm
URL:https://www.desertfallsgolf.com/event/summer-hours/
END:VEVENT
END:VCALENDAR