BEGIN:VCALENDAR
VERSION:2.0
PRODID:-//Desert Falls Country Club - ECPv6.15.18//NONSGML v1.0//EN
CALSCALE:GREGORIAN
METHOD:PUBLISH
X-WR-CALNAME:Desert Falls Country Club
X-ORIGINAL-URL:https://www.desertfallsgolf.com
X-WR-CALDESC:Events for Desert Falls Country Club
REFRESH-INTERVAL;VALUE=DURATION:PT1H
X-Robots-Tag:noindex
X-PUBLISHED-TTL:PT1H
BEGIN:VTIMEZONE
TZID:America/Los_Angeles
BEGIN:DAYLIGHT
TZOFFSETFROM:-0800
TZOFFSETTO:-0700
TZNAME:PDT
DTSTART:20250309T100000
END:DAYLIGHT
BEGIN:STANDARD
TZOFFSETFROM:-0700
TZOFFSETTO:-0800
TZNAME:PST
DTSTART:20251102T090000
END:STANDARD
BEGIN:DAYLIGHT
TZOFFSETFROM:-0800
TZOFFSETTO:-0700
TZNAME:PDT
DTSTART:20260308T100000
END:DAYLIGHT
BEGIN:STANDARD
TZOFFSETFROM:-0700
TZOFFSETTO:-0800
TZNAME:PST
DTSTART:20261101T090000
END:STANDARD
BEGIN:DAYLIGHT
TZOFFSETFROM:-0800
TZOFFSETTO:-0700
TZNAME:PDT
DTSTART:20270314T100000
END:DAYLIGHT
BEGIN:STANDARD
TZOFFSETFROM:-0700
TZOFFSETTO:-0800
TZNAME:PST
DTSTART:20271107T090000
END:STANDARD
END:VTIMEZONE
BEGIN:VEVENT
DTSTART;VALUE=DATE:20260217
DTEND;VALUE=DATE:20260218
DTSTAMP:20260423T151000
CREATED:20250918T151449Z
LAST-MODIFIED:20250918T202417Z
UID:10000160-1771286400-1771372799@www.desertfallsgolf.com
SUMMARY:WGA Ladies
DESCRIPTION:Play Day 14
URL:https://www.desertfallsgolf.com/event/wga-ladies-25/
CATEGORIES:WGA- Ladies
END:VEVENT
BEGIN:VEVENT
DTSTART;VALUE=DATE:20260218
DTEND;VALUE=DATE:20260219
DTSTAMP:20260423T151000
CREATED:20250918T150303Z
LAST-MODIFIED:20250918T195734Z
UID:10000125-1771372800-1771459199@www.desertfallsgolf.com
SUMMARY:Men's Club
DESCRIPTION:Member/Member 2
URL:https://www.desertfallsgolf.com/event/mens-club-26/
CATEGORIES:Men's Club
END:VEVENT
BEGIN:VEVENT
DTSTART;VALUE=DATE:20260219
DTEND;VALUE=DATE:20260220
DTSTAMP:20260423T151000
CREATED:20250918T151507Z
LAST-MODIFIED:20250918T202438Z
UID:10000161-1771459200-1771545599@www.desertfallsgolf.com
SUMMARY:WGA Ladies
DESCRIPTION:Low Net
URL:https://www.desertfallsgolf.com/event/wga-ladies-26/
CATEGORIES:WGA- Ladies
END:VEVENT
BEGIN:VEVENT
DTSTART;VALUE=DATE:20260219
DTEND;VALUE=DATE:20260223
DTSTAMP:20260423T151000
CREATED:20250916T124010Z
LAST-MODIFIED:20250916T124010Z
UID:10000070-1771459200-1771804799@www.desertfallsgolf.com
SUMMARY:LA Open
DESCRIPTION:
URL:https://www.desertfallsgolf.com/event/la-open/
END:VEVENT
BEGIN:VEVENT
DTSTART;VALUE=DATE:20260223
DTEND;VALUE=DATE:20260224
DTSTAMP:20260423T151000
CREATED:20250918T150317Z
LAST-MODIFIED:20250918T195753Z
UID:10000126-1771804800-1771891199@www.desertfallsgolf.com
SUMMARY:Men's Club
DESCRIPTION:Open Play 19
URL:https://www.desertfallsgolf.com/event/mens-club-27/
CATEGORIES:Men's Club
END:VEVENT
BEGIN:VEVENT
DTSTART;VALUE=DATE:20260224
DTEND;VALUE=DATE:20260225
DTSTAMP:20260423T151000
CREATED:20250918T151521Z
LAST-MODIFIED:20250918T202456Z
UID:10000162-1771891200-1771977599@www.desertfallsgolf.com
SUMMARY:WGA Ladies
DESCRIPTION:Presidents Cup 1
URL:https://www.desertfallsgolf.com/event/wga-ladies-27/
CATEGORIES:WGA- Ladies
END:VEVENT
BEGIN:VEVENT
DTSTART;VALUE=DATE:20260225
DTEND;VALUE=DATE:20260226
DTSTAMP:20260423T151000
CREATED:20250918T150337Z
LAST-MODIFIED:20250918T195813Z
UID:10000127-1771977600-1772063999@www.desertfallsgolf.com
SUMMARY:Men's Club
DESCRIPTION:Train Wreck by JR
URL:https://www.desertfallsgolf.com/event/mens-club-28/
CATEGORIES:Men's Club
END:VEVENT
BEGIN:VEVENT
DTSTART;VALUE=DATE:20260226
DTEND;VALUE=DATE:20260227
DTSTAMP:20260423T151000
CREATED:20250918T151538Z
LAST-MODIFIED:20250918T202514Z
UID:10000163-1772064000-1772150399@www.desertfallsgolf.com
SUMMARY:WGA Ladies
DESCRIPTION:Presidents Cup 2
URL:https://www.desertfallsgolf.com/event/wga-ladies-28/
CATEGORIES:WGA- Ladies
END:VEVENT
BEGIN:VEVENT
DTSTART;VALUE=DATE:20260226
DTEND;VALUE=DATE:20260302
DTSTAMP:20260423T151000
CREATED:20250916T124100Z
LAST-MODIFIED:20250916T124100Z
UID:10000072-1772064000-1772409599@www.desertfallsgolf.com
SUMMARY:PGA National
DESCRIPTION:
URL:https://www.desertfallsgolf.com/event/pga-national/
END:VEVENT
BEGIN:VEVENT
DTSTART;VALUE=DATE:20260301
DTEND;VALUE=DATE:20260316
DTSTAMP:20260423T151000
CREATED:20250916T124229Z
LAST-MODIFIED:20250918T204502Z
UID:10000074-1772323200-1773619199@www.desertfallsgolf.com
SUMMARY:Indian Wells Tennis
DESCRIPTION:
URL:https://www.desertfallsgolf.com/event/indian-wells-tennis/
END:VEVENT
BEGIN:VEVENT
DTSTART;VALUE=DATE:20260302
DTEND;VALUE=DATE:20260303
DTSTAMP:20260423T151000
CREATED:20250918T150355Z
LAST-MODIFIED:20250918T195841Z
UID:10000128-1772409600-1772495999@www.desertfallsgolf.com
SUMMARY:Men's Club
DESCRIPTION:Open Pllay 20
URL:https://www.desertfallsgolf.com/event/mens-club-29/
CATEGORIES:Men's Club
END:VEVENT
BEGIN:VEVENT
DTSTART;VALUE=DATE:20260303
DTEND;VALUE=DATE:20260304
DTSTAMP:20260423T151000
CREATED:20250918T202744Z
LAST-MODIFIED:20250918T202744Z
UID:10000183-1772496000-1772582399@www.desertfallsgolf.com
SUMMARY:WGA Ladies
DESCRIPTION:Team Scramble
URL:https://www.desertfallsgolf.com/event/wga-ladies-36/
CATEGORIES:WGA- Ladies
END:VEVENT
BEGIN:VEVENT
DTSTART;VALUE=DATE:20260304
DTEND;VALUE=DATE:20260306
DTSTAMP:20260423T151000
CREATED:20250918T151559Z
LAST-MODIFIED:20250918T151559Z
UID:10000164-1772582400-1772755199@www.desertfallsgolf.com
SUMMARY:WGA Follies
DESCRIPTION:
URL:https://www.desertfallsgolf.com/event/wga-follies/
END:VEVENT
BEGIN:VEVENT
DTSTART;VALUE=DATE:20260305
DTEND;VALUE=DATE:20260309
DTSTAMP:20260423T151000
CREATED:20250916T124407Z
LAST-MODIFIED:20250916T124407Z
UID:10000075-1772668800-1773014399@www.desertfallsgolf.com
SUMMARY:Bay Hill-Palmer Invite
DESCRIPTION:
URL:https://www.desertfallsgolf.com/event/bay-hill-palmer-invite/
END:VEVENT
BEGIN:VEVENT
DTSTART;VALUE=DATE:20260309
DTEND;VALUE=DATE:20260310
DTSTAMP:20260423T151000
CREATED:20250918T150437Z
LAST-MODIFIED:20250918T195920Z
UID:10000130-1773014400-1773100799@www.desertfallsgolf.com
SUMMARY:Men's Club
DESCRIPTION:Open Play 21
URL:https://www.desertfallsgolf.com/event/mens-club-30/
CATEGORIES:Men's Club
END:VEVENT
BEGIN:VEVENT
DTSTART;VALUE=DATE:20260310
DTEND;VALUE=DATE:20260311
DTSTAMP:20260423T151000
CREATED:20250918T151613Z
LAST-MODIFIED:20250918T202918Z
UID:10000165-1773100800-1773187199@www.desertfallsgolf.com
SUMMARY:WGA Ladies
DESCRIPTION:Play Day 15
URL:https://www.desertfallsgolf.com/event/wga-ladies-29/
CATEGORIES:WGA- Ladies
END:VEVENT
BEGIN:VEVENT
DTSTART;VALUE=DATE:20260311
DTEND;VALUE=DATE:20260312
DTSTAMP:20260423T151000
CREATED:20250918T150449Z
LAST-MODIFIED:20250918T200058Z
UID:10000131-1773187200-1773273599@www.desertfallsgolf.com
SUMMARY:Men's Club
DESCRIPTION:Club Championship 1
URL:https://www.desertfallsgolf.com/event/mens-club-31/
CATEGORIES:Men's Club
END:VEVENT
BEGIN:VEVENT
DTSTART;VALUE=DATE:20260312
DTEND;VALUE=DATE:20260313
DTSTAMP:20260423T151000
CREATED:20250918T151629Z
LAST-MODIFIED:20250918T203028Z
UID:10000166-1773273600-1773359999@www.desertfallsgolf.com
SUMMARY:WGA- Ladies/Team
DESCRIPTION:
URL:https://www.desertfallsgolf.com/event/wga-ladies-30/
CATEGORIES:WGA- Ladies
END:VEVENT
BEGIN:VEVENT
DTSTART;VALUE=DATE:20260312
DTEND;VALUE=DATE:20260316
DTSTAMP:20260423T151000
CREATED:20250916T124501Z
LAST-MODIFIED:20250916T124501Z
UID:10000077-1773273600-1773619199@www.desertfallsgolf.com
SUMMARY:The Players
DESCRIPTION:
URL:https://www.desertfallsgolf.com/event/the-players/
END:VEVENT
BEGIN:VEVENT
DTSTART;VALUE=DATE:20260315
DTEND;VALUE=DATE:20260316
DTSTAMP:20260423T151000
CREATED:20250918T204426Z
LAST-MODIFIED:20250918T204426Z
UID:10000190-1773532800-1773619199@www.desertfallsgolf.com
SUMMARY:St. Patricks Day Theme Dinner
DESCRIPTION:
URL:https://www.desertfallsgolf.com/event/st-patricks-day-theme-dinner/
END:VEVENT
BEGIN:VEVENT
DTSTART;VALUE=DATE:20260316
DTEND;VALUE=DATE:20260317
DTSTAMP:20260423T151000
CREATED:20250918T150459Z
LAST-MODIFIED:20250918T200118Z
UID:10000132-1773619200-1773705599@www.desertfallsgolf.com
SUMMARY:Men's Club
DESCRIPTION:Club Championship 2
URL:https://www.desertfallsgolf.com/event/mens-club-32/
CATEGORIES:Men's Club
END:VEVENT
BEGIN:VEVENT
DTSTART;VALUE=DATE:20260317
DTEND;VALUE=DATE:20260318
DTSTAMP:20260423T151000
CREATED:20250918T151640Z
LAST-MODIFIED:20250918T203140Z
UID:10000167-1773705600-1773791999@www.desertfallsgolf.com
SUMMARY:WGA Ladies
DESCRIPTION:Play Day 16
URL:https://www.desertfallsgolf.com/event/wga-ladies-31/
CATEGORIES:WGA- Ladies
END:VEVENT
BEGIN:VEVENT
DTSTART;VALUE=DATE:20260318
DTEND;VALUE=DATE:20260319
DTSTAMP:20260423T151000
CREATED:20250918T150511Z
LAST-MODIFIED:20250918T200140Z
UID:10000133-1773792000-1773878399@www.desertfallsgolf.com
SUMMARY:Men's Club
DESCRIPTION:Club Championship 3
URL:https://www.desertfallsgolf.com/event/mens-club-33/
CATEGORIES:Men's Club
END:VEVENT
BEGIN:VEVENT
DTSTART;VALUE=DATE:20260319
DTEND;VALUE=DATE:20260320
DTSTAMP:20260423T151000
CREATED:20250918T151653Z
LAST-MODIFIED:20250918T203213Z
UID:10000168-1773878400-1773964799@www.desertfallsgolf.com
SUMMARY:WGA Ladies
DESCRIPTION:Club Championship 1
URL:https://www.desertfallsgolf.com/event/wga-ladies-32/
CATEGORIES:WGA- Ladies
END:VEVENT
BEGIN:VEVENT
DTSTART;VALUE=DATE:20260319
DTEND;VALUE=DATE:20260323
DTSTAMP:20260423T151000
CREATED:20250916T124723Z
LAST-MODIFIED:20250916T124723Z
UID:10000082-1773878400-1774223999@www.desertfallsgolf.com
SUMMARY:Valpar Champ
DESCRIPTION:
URL:https://www.desertfallsgolf.com/event/valpar-champ/
END:VEVENT
BEGIN:VEVENT
DTSTART;VALUE=DATE:20260323
DTEND;VALUE=DATE:20260324
DTSTAMP:20260423T151000
CREATED:20250918T150600Z
LAST-MODIFIED:20250918T200508Z
UID:10000134-1774224000-1774310399@www.desertfallsgolf.com
SUMMARY:Men's Club
DESCRIPTION:Open Play 21
URL:https://www.desertfallsgolf.com/event/mens-club-34/
CATEGORIES:Men's Club
END:VEVENT
BEGIN:VEVENT
DTSTART;VALUE=DATE:20260324
DTEND;VALUE=DATE:20260325
DTSTAMP:20260423T151000
CREATED:20250918T151708Z
LAST-MODIFIED:20250918T203245Z
UID:10000169-1774310400-1774396799@www.desertfallsgolf.com
SUMMARY:WGA Ladies
DESCRIPTION:Club Championship 2
URL:https://www.desertfallsgolf.com/event/wga-ladies-33/
CATEGORIES:WGA- Ladies
END:VEVENT
BEGIN:VEVENT
DTSTART;VALUE=DATE:20260325
DTEND;VALUE=DATE:20260326
DTSTAMP:20260423T151000
CREATED:20250918T150616Z
LAST-MODIFIED:20250918T200541Z
UID:10000135-1774396800-1774483199@www.desertfallsgolf.com
SUMMARY:Men's Club
DESCRIPTION:Open Play 22
URL:https://www.desertfallsgolf.com/event/mens-club-35/
CATEGORIES:Men's Club
END:VEVENT
BEGIN:VEVENT
DTSTART;VALUE=DATE:20260326
DTEND;VALUE=DATE:20260327
DTSTAMP:20260423T151000
CREATED:20250918T151724Z
LAST-MODIFIED:20250918T203309Z
UID:10000170-1774483200-1774569599@www.desertfallsgolf.com
SUMMARY:WGA Ladies
DESCRIPTION:Team Crossover
URL:https://www.desertfallsgolf.com/event/wga-ladies-34/
CATEGORIES:WGA- Ladies
END:VEVENT
BEGIN:VEVENT
DTSTART;VALUE=DATE:20260326
DTEND;VALUE=DATE:20260330
DTSTAMP:20260423T151000
CREATED:20250916T124625Z
LAST-MODIFIED:20250916T124625Z
UID:10000079-1774483200-1774828799@www.desertfallsgolf.com
SUMMARY:Houston Open
DESCRIPTION:
URL:https://www.desertfallsgolf.com/event/houston-open/
END:VEVENT
END:VCALENDAR