BEGIN:VCALENDAR
VERSION:2.0
PRODID:-//Desert Falls Country Club - ECPv6.15.18//NONSGML v1.0//EN
CALSCALE:GREGORIAN
METHOD:PUBLISH
X-ORIGINAL-URL:https://www.desertfallsgolf.com
X-WR-CALDESC:Events for Desert Falls Country Club
REFRESH-INTERVAL;VALUE=DURATION:PT1H
X-Robots-Tag:noindex
X-PUBLISHED-TTL:PT1H
BEGIN:VTIMEZONE
TZID:UTC
BEGIN:STANDARD
TZOFFSETFROM:+0000
TZOFFSETTO:+0000
TZNAME:UTC
DTSTART:20230101T000000
END:STANDARD
END:VTIMEZONE
BEGIN:VTIMEZONE
TZID:America/Los_Angeles
BEGIN:DAYLIGHT
TZOFFSETFROM:-0800
TZOFFSETTO:-0700
TZNAME:PDT
DTSTART:20240310T100000
END:DAYLIGHT
BEGIN:STANDARD
TZOFFSETFROM:-0700
TZOFFSETTO:-0800
TZNAME:PST
DTSTART:20241103T090000
END:STANDARD
BEGIN:DAYLIGHT
TZOFFSETFROM:-0800
TZOFFSETTO:-0700
TZNAME:PDT
DTSTART:20250309T100000
END:DAYLIGHT
BEGIN:STANDARD
TZOFFSETFROM:-0700
TZOFFSETTO:-0800
TZNAME:PST
DTSTART:20251102T090000
END:STANDARD
BEGIN:DAYLIGHT
TZOFFSETFROM:-0800
TZOFFSETTO:-0700
TZNAME:PDT
DTSTART:20260308T100000
END:DAYLIGHT
BEGIN:STANDARD
TZOFFSETFROM:-0700
TZOFFSETTO:-0800
TZNAME:PST
DTSTART:20261101T090000
END:STANDARD
END:VTIMEZONE
BEGIN:VEVENT
DTSTART;TZID=UTC:20240105T140000
DTEND;TZID=UTC:20240105T160000
DTSTAMP:20260424T062450
CREATED:20240105T062838Z
LAST-MODIFIED:20240105T062838Z
UID:10000006-1704463200-1704470400@www.desertfallsgolf.com
SUMMARY:Happy Hour
DESCRIPTION:Start the New Year off right. Joun us on Friday\, January 5\, 2024. \nHappy Hour is open to the public. \nMonday – Friday 2pm to 4pm \n \n 
URL:https://www.desertfallsgolf.com/event/happy-hour/
LOCATION:The Grill
END:VEVENT
BEGIN:VEVENT
DTSTART;TZID=UTC:20240112T170000
DTEND;TZID=UTC:20240112T200000
DTSTAMP:20260424T062450
CREATED:20240105T045749Z
LAST-MODIFIED:20240106T013608Z
UID:10000004-1705078800-1705089600@www.desertfallsgolf.com
SUMMARY:Prime Rib Night
DESCRIPTION:Join us on Friday\, January 12\, 2024\, for Prime Rib Night. \nReservations are required for this event. \nFor more information\, please email at: \nCineva | Cineva@desertfallsgolf.com \n \n 
URL:https://www.desertfallsgolf.com/event/prime-rib-night/
LOCATION:The Grill
END:VEVENT
BEGIN:VEVENT
DTSTART;TZID=UTC:20240119T013000
DTEND;TZID=UTC:20240119T190000
DTSTAMP:20260424T062450
CREATED:20240105T062334Z
LAST-MODIFIED:20240105T062524Z
UID:10000005-1705627800-1705690800@www.desertfallsgolf.com
SUMMARY:Nine & Dine
DESCRIPTION:Join us on Friday\, January 19\, 2024\, for our New Nine & Dine. \nGolf & Dinner Reservations are required. \nFor more information\, please see the Pro Shop.
URL:https://www.desertfallsgolf.com/event/367/
LOCATION:Pro Shop
END:VEVENT
BEGIN:VEVENT
DTSTART;TZID=UTC:20240126T170000
DTEND;TZID=UTC:20240126T200000
DTSTAMP:20260424T062450
CREATED:20240112T014719Z
LAST-MODIFIED:20240112T014719Z
UID:10000007-1706288400-1706299200@www.desertfallsgolf.com
SUMMARY:Friday Night Dinner
DESCRIPTION:Friday Night Social Dinner \nPlease make your reservations soon before it is SOLD OUT! \nEmail Cineva: cineva@desertfallsgolf.com
URL:https://www.desertfallsgolf.com/event/friday-night-dinner/
LOCATION:The Grill
END:VEVENT
BEGIN:VEVENT
DTSTART;TZID=UTC:20240202T133000
DTEND;TZID=UTC:20240202T190000
DTSTAMP:20260424T062450
CREATED:20240120T042131Z
LAST-MODIFIED:20240120T042131Z
UID:10000009-1706880600-1706900400@www.desertfallsgolf.com
SUMMARY:70"s Themed Horse Race & Dinner
DESCRIPTION:Join us for a Golf Horse Race followed by dinner. \n70’s Theme fun filled night.
URL:https://www.desertfallsgolf.com/event/70s-themed-horse-race-dinner/
LOCATION:The Grill
END:VEVENT
BEGIN:VEVENT
DTSTART;TZID=UTC:20240214T170000
DTEND;TZID=UTC:20240214T200000
DTSTAMP:20260424T062450
CREATED:20240120T041634Z
LAST-MODIFIED:20240120T041634Z
UID:10000008-1707930000-1707940800@www.desertfallsgolf.com
SUMMARY:Valentine's Dinner
DESCRIPTION:Join us on Wednesday\, February 14\, 2024\, for our 3rd Annual Valentine’s Dinner \nTables of 6 or 8 are available.
URL:https://www.desertfallsgolf.com/event/valentines-dinner/
LOCATION:Majestic Ballroom
END:VEVENT
BEGIN:VEVENT
DTSTART;TZID=UTC:20250110T170000
DTEND;TZID=UTC:20250110T190000
DTSTAMP:20260424T062450
CREATED:20250102T084441Z
LAST-MODIFIED:20250103T042126Z
UID:10000010-1736528400-1736535600@www.desertfallsgolf.com
SUMMARY:Prime Rib Night
DESCRIPTION:2025 prime rib
URL:https://www.desertfallsgolf.com/event/prime-rib-night-2/
ORGANIZER;CN="Desert Falls Country Club":MAILTO:events@desertfallsgolf.com
END:VEVENT
BEGIN:VEVENT
DTSTART;TZID=UTC:20250122T163000
DTEND;TZID=UTC:20250122T200000
DTSTAMP:20260424T062450
CREATED:20250103T031701Z
LAST-MODIFIED:20250103T031844Z
UID:10000011-1737563400-1737576000@www.desertfallsgolf.com
SUMMARY:Bingo Night
DESCRIPTION:Spring Bingo – Jan 22
URL:https://www.desertfallsgolf.com/event/bingo-night/
LOCATION:Majestic Ballroom
ORGANIZER;CN="Desert Falls Country Club":MAILTO:events@desertfallsgolf.com
END:VEVENT
BEGIN:VEVENT
DTSTART;TZID=UTC:20250124T170000
DTEND;TZID=UTC:20250124T170000
DTSTAMP:20260424T062450
CREATED:20250118T064121Z
LAST-MODIFIED:20250118T064639Z
UID:10000012-1737738000-1737738000@www.desertfallsgolf.com
SUMMARY:Asian Night Dinner
DESCRIPTION:ASIAN NIGHT SPECIAL DINNER MENU
URL:https://www.desertfallsgolf.com/event/578/
ORGANIZER;CN="Desert Falls Country Club":MAILTO:events@desertfallsgolf.com
END:VEVENT
BEGIN:VEVENT
DTSTART;TZID=America/Los_Angeles:20250929T080000
DTEND;TZID=America/Los_Angeles:20251102T170000
DTSTAMP:20260424T062450
CREATED:20250827T190202Z
LAST-MODIFIED:20250827T190202Z
UID:10000013-1759132800-1762102800@www.desertfallsgolf.com
SUMMARY:OVERSEED-Course and Driving Range CLOSED
DESCRIPTION:GOLF COURSE AND DRIVING RANGE CLOSED FOR OVERSEEDING
URL:https://www.desertfallsgolf.com/event/overseed-course-and-driving-range-closed/
END:VEVENT
BEGIN:VEVENT
DTSTART;VALUE=DATE:20251108
DTEND;VALUE=DATE:20251109
DTSTAMP:20260424T062450
CREATED:20250915T184100Z
LAST-MODIFIED:20250916T121902Z
UID:10000014-1762560000-1762646399@www.desertfallsgolf.com
SUMMARY:Welcome Party
DESCRIPTION:
URL:https://www.desertfallsgolf.com/event/welcome-party/
END:VEVENT
BEGIN:VEVENT
DTSTART;TZID=America/Los_Angeles:20251108T180000
DTEND;TZID=America/Los_Angeles:20251108T210000
DTSTAMP:20260424T062450
CREATED:20250915T235439Z
LAST-MODIFIED:20250915T235439Z
UID:10000015-1762624800-1762635600@www.desertfallsgolf.com
SUMMARY:Johnny Meza 6p-9p
DESCRIPTION:
URL:https://www.desertfallsgolf.com/event/johnny-meza-6p-9p/
END:VEVENT
BEGIN:VEVENT
DTSTART;VALUE=DATE:20251110
DTEND;VALUE=DATE:20251111
DTSTAMP:20260424T062450
CREATED:20250915T235500Z
LAST-MODIFIED:20250916T121910Z
UID:10000016-1762732800-1762819199@www.desertfallsgolf.com
SUMMARY:MNF - Eagles vs Packers
DESCRIPTION:
URL:https://www.desertfallsgolf.com/event/mnf-eagles-vs-packers/
END:VEVENT
BEGIN:VEVENT
DTSTART;VALUE=DATE:20251110
DTEND;VALUE=DATE:20251111
DTSTAMP:20260424T062450
CREATED:20250918T145707Z
LAST-MODIFIED:20250918T194306Z
UID:10000100-1762732800-1762819199@www.desertfallsgolf.com
SUMMARY:Men's Club
DESCRIPTION:Open Play 1
URL:https://www.desertfallsgolf.com/event/mens-club/
CATEGORIES:Men's Club
END:VEVENT
BEGIN:VEVENT
DTSTART;VALUE=DATE:20251111
DTEND;VALUE=DATE:20251112
DTSTAMP:20260424T062450
CREATED:20250915T235519Z
LAST-MODIFIED:20250916T131234Z
UID:10000017-1762819200-1762905599@www.desertfallsgolf.com
SUMMARY:Veterans Day
DESCRIPTION:
URL:https://www.desertfallsgolf.com/event/veterans-day/
END:VEVENT
BEGIN:VEVENT
DTSTART;VALUE=DATE:20251111
DTEND;VALUE=DATE:20251112
DTSTAMP:20260424T062450
CREATED:20250918T150827Z
LAST-MODIFIED:20250918T201032Z
UID:10000136-1762819200-1762905599@www.desertfallsgolf.com
SUMMARY:WGA Ladies
DESCRIPTION:Play Day 1
URL:https://www.desertfallsgolf.com/event/wga-ladies/
CATEGORIES:WGA- Ladies
END:VEVENT
BEGIN:VEVENT
DTSTART;VALUE=DATE:20251112
DTEND;VALUE=DATE:20251113
DTSTAMP:20260424T062450
CREATED:20250918T145718Z
LAST-MODIFIED:20250918T194343Z
UID:10000101-1762905600-1762991999@www.desertfallsgolf.com
SUMMARY:Men's Club
DESCRIPTION:Open Play 2
URL:https://www.desertfallsgolf.com/event/mens-club-2/
CATEGORIES:Men's Club
END:VEVENT
BEGIN:VEVENT
DTSTART;TZID=America/Los_Angeles:20251112T160000
DTEND;TZID=America/Los_Angeles:20251112T180000
DTSTAMP:20260424T062450
CREATED:20250915T235554Z
LAST-MODIFIED:20250916T115710Z
UID:10000018-1762963200-1762970400@www.desertfallsgolf.com
SUMMARY:Wine Tasting 4p-6p
DESCRIPTION:
URL:https://www.desertfallsgolf.com/event/wine-tasting-4p-6p/
END:VEVENT
BEGIN:VEVENT
DTSTART;VALUE=DATE:20251113
DTEND;VALUE=DATE:20251114
DTSTAMP:20260424T062450
CREATED:20250918T150847Z
LAST-MODIFIED:20250918T201051Z
UID:10000137-1762992000-1763078399@www.desertfallsgolf.com
SUMMARY:WGA Ladies
DESCRIPTION:Scramble
URL:https://www.desertfallsgolf.com/event/wga-ladies-2/
CATEGORIES:WGA- Ladies
END:VEVENT
BEGIN:VEVENT
DTSTART;VALUE=DATE:20251115
DTEND;VALUE=DATE:20251116
DTSTAMP:20260424T062450
CREATED:20250915T235626Z
LAST-MODIFIED:20250916T122000Z
UID:10000020-1763164800-1763251199@www.desertfallsgolf.com
SUMMARY:College Football
DESCRIPTION:
URL:https://www.desertfallsgolf.com/event/college-football/
END:VEVENT
BEGIN:VEVENT
DTSTART;VALUE=DATE:20251117
DTEND;VALUE=DATE:20251118
DTSTAMP:20260424T062450
CREATED:20250915T235642Z
LAST-MODIFIED:20250916T121917Z
UID:10000021-1763337600-1763423999@www.desertfallsgolf.com
SUMMARY:MNF- Cowboys vs Raiders
DESCRIPTION:
URL:https://www.desertfallsgolf.com/event/mnf-cowboys-vs-raiders/
END:VEVENT
BEGIN:VEVENT
DTSTART;VALUE=DATE:20251117
DTEND;VALUE=DATE:20251118
DTSTAMP:20260424T062450
CREATED:20250918T145741Z
LAST-MODIFIED:20250918T194451Z
UID:10000102-1763337600-1763423999@www.desertfallsgolf.com
SUMMARY:Men's Club
DESCRIPTION:Open Play 3
URL:https://www.desertfallsgolf.com/event/mens-club-3/
CATEGORIES:Men's Club
END:VEVENT
BEGIN:VEVENT
DTSTART;VALUE=DATE:20251118
DTEND;VALUE=DATE:20251119
DTSTAMP:20260424T062450
CREATED:20250918T201012Z
LAST-MODIFIED:20250918T201012Z
UID:10000179-1763424000-1763510399@www.desertfallsgolf.com
SUMMARY:WGA- Ladies
DESCRIPTION:Play Day 2
URL:https://www.desertfallsgolf.com/event/wga-ladies-17/
CATEGORIES:WGA- Ladies
END:VEVENT
BEGIN:VEVENT
DTSTART;VALUE=DATE:20251119
DTEND;VALUE=DATE:20251120
DTSTAMP:20260424T062450
CREATED:20250918T145804Z
LAST-MODIFIED:20250918T194520Z
UID:10000103-1763510400-1763596799@www.desertfallsgolf.com
SUMMARY:Men's Club
DESCRIPTION:Orange Ball
URL:https://www.desertfallsgolf.com/event/mens-club-4/
CATEGORIES:Men's Club
END:VEVENT
BEGIN:VEVENT
DTSTART;VALUE=DATE:20251120
DTEND;VALUE=DATE:20251121
DTSTAMP:20260424T062450
CREATED:20250918T201140Z
LAST-MODIFIED:20250918T201140Z
UID:10000180-1763596800-1763683199@www.desertfallsgolf.com
SUMMARY:WGA- Ladies
DESCRIPTION:Low Net
URL:https://www.desertfallsgolf.com/event/wga-ladies-18/
CATEGORIES:WGA- Ladies
END:VEVENT
BEGIN:VEVENT
DTSTART;VALUE=DATE:20251122
DTEND;VALUE=DATE:20251123
DTSTAMP:20260424T062450
CREATED:20250915T235740Z
LAST-MODIFIED:20250916T122007Z
UID:10000024-1763769600-1763855999@www.desertfallsgolf.com
SUMMARY:College Football
DESCRIPTION:
URL:https://www.desertfallsgolf.com/event/college-football-2/
END:VEVENT
BEGIN:VEVENT
DTSTART;VALUE=DATE:20251124
DTEND;VALUE=DATE:20251125
DTSTAMP:20260424T062450
CREATED:20250915T235821Z
LAST-MODIFIED:20250916T121925Z
UID:10000026-1763942400-1764028799@www.desertfallsgolf.com
SUMMARY:MNF-Panthers vs 49ers
DESCRIPTION:
URL:https://www.desertfallsgolf.com/event/mnf-panthers-vs-49ers/
END:VEVENT
BEGIN:VEVENT
DTSTART;VALUE=DATE:20251124
DTEND;VALUE=DATE:20251125
DTSTAMP:20260424T062450
CREATED:20250918T145821Z
LAST-MODIFIED:20250918T194543Z
UID:10000104-1763942400-1764028799@www.desertfallsgolf.com
SUMMARY:Men's Club
DESCRIPTION:Open Play 4
URL:https://www.desertfallsgolf.com/event/mens-club-5/
CATEGORIES:Men's Club
END:VEVENT
BEGIN:VEVENT
DTSTART;VALUE=DATE:20251125
DTEND;VALUE=DATE:20251126
DTSTAMP:20260424T062450
CREATED:20250918T150900Z
LAST-MODIFIED:20250918T201213Z
UID:10000138-1764028800-1764115199@www.desertfallsgolf.com
SUMMARY:WGA Ladies
DESCRIPTION:Play Day 3
URL:https://www.desertfallsgolf.com/event/wga-ladies-3/
CATEGORIES:WGA- Ladies
END:VEVENT
BEGIN:VEVENT
DTSTART;VALUE=DATE:20251126
DTEND;VALUE=DATE:20251127
DTSTAMP:20260424T062450
CREATED:20250918T145837Z
LAST-MODIFIED:20250918T194601Z
UID:10000105-1764115200-1764201599@www.desertfallsgolf.com
SUMMARY:Men's Club
DESCRIPTION:Open Play 5
URL:https://www.desertfallsgolf.com/event/mens-club-6/
CATEGORIES:Men's Club
END:VEVENT
END:VCALENDAR