BEGIN:VCALENDAR
VERSION:2.0
PRODID:-//Desert Falls Country Club - ECPv6.15.18//NONSGML v1.0//EN
CALSCALE:GREGORIAN
METHOD:PUBLISH
X-WR-CALNAME:Desert Falls Country Club
X-ORIGINAL-URL:https://www.desertfallsgolf.com
X-WR-CALDESC:Events for Desert Falls Country Club
REFRESH-INTERVAL;VALUE=DURATION:PT1H
X-Robots-Tag:noindex
X-PUBLISHED-TTL:PT1H
BEGIN:VTIMEZONE
TZID:UTC
BEGIN:STANDARD
TZOFFSETFROM:+0000
TZOFFSETTO:+0000
TZNAME:UTC
DTSTART:20240101T000000
END:STANDARD
END:VTIMEZONE
BEGIN:VEVENT
DTSTART;TZID=UTC:20250122T163000
DTEND;TZID=UTC:20250122T200000
DTSTAMP:20260423T061021
CREATED:20250103T031701Z
LAST-MODIFIED:20250103T031844Z
UID:10000011-1737563400-1737576000@www.desertfallsgolf.com
SUMMARY:Bingo Night
DESCRIPTION:Spring Bingo – Jan 22
URL:https://www.desertfallsgolf.com/event/bingo-night/
LOCATION:Majestic Ballroom
ORGANIZER;CN="Desert Falls Country Club":MAILTO:events@desertfallsgolf.com
END:VEVENT
END:VCALENDAR